BEGIN:VCALENDAR
VERSION:2.0
PRODID:-//www.manhassetbreastcancer.org//NONSGML kigkonsult.se iCalcreator 
 2.30.10//
CALSCALE:GREGORIAN
METHOD:PUBLISH
UID:aa478bd3-b837-4f04-87dd-b40865cd0314
X-WR-CALDESC:GENERAL EXERCISE FOR ALL WITH BONNIE\nFull Body Conditioning t
 ailored to meet the needs of all cancer survivors.\n\nMetting ID-836545308
 06\nPassword-zkSDG5
X-WR-RELCALID:8655c2476496e35b38767569240606c4
X-WR-TIMEZONE:America/Chicago
BEGIN:VTIMEZONE
TZID:America/Chicago
BEGIN:STANDARD
TZNAME:CST
DTSTART:20211107T020000
TZOFFSETFROM:-0500
TZOFFSETTO:-0600
RDATE:20221106T020000
RDATE:20231105T020000
END:STANDARD
BEGIN:DAYLIGHT
TZNAME:CDT
DTSTART:20220313T020000
TZOFFSETFROM:-0600
TZOFFSETTO:-0500
RDATE:20230312T020000
END:DAYLIGHT
END:VTIMEZONE
BEGIN:VEVENT
UID:2c2f01d9-f8a7-47d5-b0c3-72a9d571ec94
DTSTAMP:20260423T171544Z
DESCRIPTION:GENERAL EXERCISE FOR ALL WITH BONNIE\nFull Body Conditioning ta
 ilored to meet the needs of all cancer survivors.\n\nMetting ID-8365453080
 6\nPassword-zkSDG5
DTSTART;TZID=America/Chicago:20220826T110000
DTEND;TZID=America/Chicago:20220826T120000
LOCATION:
SUMMARY:General Exercise for All with Bonnie
END:VEVENT
END:VCALENDAR
