BEGIN:VCALENDAR
VERSION:2.0
PRODID:-//www.manhassetbreastcancer.org//NONSGML kigkonsult.se iCalcreator 
 2.30.10//
CALSCALE:GREGORIAN
METHOD:PUBLISH
UID:4e6d4811-f2ba-45b1-b151-dbd1b0d47dd8
X-WR-CALDESC:NEW Discussion Group for Breast/Gynecologic Cancer Survivors i
 n Treatment *\nOpen to cancer survivors with breast and/or gynecologic can
 cer who are in treatment. This is a confidential place to connect with oth
 ers\, receive and share support and resources. Facilitated by Randy Hight\
 , LCSW\, OSW\nThis group typically meets the 2nd and 4th Monday of the mon
 th. Group meets on October 11 & 25th from 12:15-1pm.\n join via Zoom\, Mee
 ting ID: 925 302 2687\, Password 818622\,\nor\, dial in to 929.205.6099\n
X-WR-RELCALID:a6180f05825220ac7e67d386d46d29a2
X-WR-TIMEZONE:America/Chicago
BEGIN:VTIMEZONE
TZID:America/Chicago
BEGIN:STANDARD
TZNAME:CST
DTSTART:20201101T020000
TZOFFSETFROM:-0500
TZOFFSETTO:-0600
RDATE:20211107T020000
RDATE:20221106T020000
END:STANDARD
BEGIN:DAYLIGHT
TZNAME:CDT
DTSTART:20210314T020000
TZOFFSETFROM:-0600
TZOFFSETTO:-0500
RDATE:20220313T020000
RDATE:20230312T020000
END:DAYLIGHT
END:VTIMEZONE
BEGIN:VEVENT
UID:c61322e5-699e-4409-9152-a7d76fc429ea
DTSTAMP:20260420T072552Z
DESCRIPTION:NEW Discussion Group for Breast/Gynecologic Cancer Survivors in
  Treatment *\nOpen to cancer survivors with breast and/or gynecologic canc
 er who are in treatment. This is a confidential place to connect with othe
 rs\, receive and share support and resources. Facilitated by Randy Hight\,
  LCSW\, OSW\nThis group typically meets the 2nd and 4th Monday of the mont
 h. Group meets on October 11 & 25th from 12:15-1pm.\n join via Zoom\, Meet
 ing ID: 925 302 2687\, Password 818622\,\nor\, dial in to 929.205.6099\n
DTSTART;TZID=America/Chicago:20211025T120000
DTEND;TZID=America/Chicago:20211025T130000
LOCATION:
SUMMARY:Discussion Group for Breast/Gynecologic Cancer Survivors in Treatme
 nt *
END:VEVENT
END:VCALENDAR
